2.43840000
0.00000000
0.00000000
-2.43840000
404510.13380335
3527601.00464660
