2.43840000
0.00000000
0.00000000
-2.43840000
416462.49827488
3541353.42203844
