2.43840000
0.00000000
0.00000000
-2.43840000
320896.58194663
3487130.38078861
