2.43840000
0.00000000
0.00000000
-2.43840000
239040.63060204
3544338.07911184
