2.43840000
0.00000000
0.00000000
-2.43840000
747881.96962510
3516613.38392185
