2.43840000
0.00000000
0.00000000
-2.43840000
736035.57347671
3516322.17944906
