2.43840000
0.00000000
0.00000000
-2.43840000
735718.50897016
3530182.05030716
