2.43840000
0.00000000
0.00000000
-2.43840000
676827.06835586
3515056.99277406
