2.43840000
0.00000000
0.00000000
-2.43840000
475499.88559310
3568751.52033089
