2.43840000
0.00000000
0.00000000
-2.43840000
358103.03717409
3597435.42645131
