2.43840000
0.00000000
0.00000000
-2.43840000
347612.91166104
3680764.62340431
