2.43840000
0.00000000
0.00000000
-2.43840000
266283.97339553
3696243.13101720
