2.43840000
0.00000000
0.00000000
-2.43840000
255331.45798523
3724259.62212967
