2.43840000
0.00000000
0.00000000
-2.43840000
244821.71266191
3766157.44443981
