2.43840000
0.00000000
0.00000000
-2.43840000
752468.71479672
3794208.18489870
