2.43840000
0.00000000
0.00000000
-2.43840000
682298.33434326
3847959.65401999
