2.43840000
0.00000000
0.00000000
-2.43840000
209685.69465429
2117582.79450849
