2.43840000
0.00000000
0.00000000
-2.43840000
249566.84849181
2144682.35654079
