2.43840000
0.00000000
0.00000000
-2.43840000
197892.30198126
2200863.75815522
