2.43840000
0.00000000
0.00000000
-2.43840000
737313.45680675
2333913.67612872
