2.438400
0.000000
0.000000
-2.438400
488322.2203
4539533.3663
