2.438400
0.000000
0.000000
-2.438400
330260.1528
4527609.4643
