2.438400
0.000000
0.000000
-2.438400
635567.850976
4554642.586596
