2.43840000
0.00000000
0.00000000
-2.43840000
602957.33901375
4637374.40538565
