2.43840000
0.00000000
0.00000000
-2.43840000
499238.37912923
4594823.84567421
