2.43840000
0.00000000
0.00000000
-2.43840000
551300.54449266
4608968.59897120
