2.43840000
0.00000000
0.00000000
-2.43840000
530294.32177210
4650451.82936398
