2.43840000
0.00000000
0.00000000
-2.43840000
425771.62443887
4567435.95674870
