2.438400
0.000000
0.000000
-2.438400
383705.294771
4554091.257926
