2.438400
0.000000
0.000000
-2.438400
363686.063692
4624109.953156
