2.43840000
0.00000000
0.00000000
-2.43840000
300195.94016123
4583679.74574887
