2.43840000
0.00000000
0.00000000
-2.43840000
322513.69404133
4638650.42495426
