2.438400
0.000000
0.000000
-2.438400
705778.384849
4667565.287935
