2.43840000
0.00000000
0.00000000
-2.43840000
509531.74328335
4691993.43295403
