2.43840000
0.00000000
0.00000000
-2.43840000
437597.16640560
4720000.72025248
