2.43840000
0.00000000
0.00000000
-2.43840000
427465.93361778
4733981.68491679
