2.43840000
0.00000000
0.00000000
-2.43840000
437842.94824289
4747762.60311822
