2.43840000
0.00000000
0.00000000
-2.43840000
385556.57243592
4679009.26995391
