2.43840000
0.00000000
0.00000000
-2.43840000
406409.96614024
4692586.13888354
