2.43840000
0.00000000
0.00000000
-2.43840000
344520.18483395
4693681.64714985
