2.43840000
0.00000000
0.00000000
-2.43840000
344826.63467465
4707562.96322851
