2.438400
0.000000
0.000000
-2.438400
253253.648115
4751835.953231
