2.438400
0.000000
0.000000
-2.438400
734482.016163
4724123.819011
