2.438400
0.000000
0.000000
-2.438400
703349.382599
4737052.106122
