2.43840000
0.00000000
0.00000000
-2.43840000
590557.58011081
4789894.92608049
