2.438400
0.000000
0.000000
-2.438400
569492.685575
4803533.822529
