2.438400
0.000000
0.000000
-2.438400
457830.521527
4775408.028659
