2.438400
0.000000
0.000000
-2.438400
488591.861346
4789042.396876
