2.438400000000
0.000000000000
0.000000000000
-2.438400000000
417117.666521607025
4734190.975144659169
