2.438400000000
0.000000000000
0.000000000000
-2.438400000000
375064.414573938990
4679342.381563014400
